Package: mvoutData Version: 1.42.0 Command: /home/biocbuild/bbs-3.20-bioc/R/bin/R CMD INSTALL mvoutData StartedAt: 2025-02-13 11:03:52 -0500 (Thu, 13 Feb 2025) EndedAt: 2025-02-13 11:04:22 -0500 (Thu, 13 Feb 2025) EllapsedTime: 29.9 seconds RetCode: 0 Status: OK