Package: mvoutData Version: 1.44.0 Command: /home/biocbuild/bbs-3.21-bioc/R/bin/R CMD INSTALL mvoutData StartedAt: 2025-10-14 11:04:17 -0400 (Tue, 14 Oct 2025) EndedAt: 2025-10-14 11:04:47 -0400 (Tue, 14 Oct 2025) EllapsedTime: 30.5 seconds RetCode: 0 Status: OK