Package: mvoutData Version: 1.44.0 Command: /home/biocbuild/bbs-3.21-bioc/R/bin/R CMD build --keep-empty-dirs --no-resave-data mvoutData StartedAt: 2025-10-14 11:30:35 -0400 (Tue, 14 Oct 2025) EndedAt: 2025-10-14 11:30:39 -0400 (Tue, 14 Oct 2025) EllapsedTime: 3.3 seconds RetCode: 0 Status: OK PackageFile: mvoutData_1.44.0.tar.gz PackageFileSize: 14.19 MiB