Package: muscData Version: 1.20.0 Command: /home/biocbuild/bbs-3.20-bioc/R/bin/R CMD INSTALL muscData StartedAt: 2025-02-11 11:01:33 -0500 (Tue, 11 Feb 2025) EndedAt: 2025-02-11 11:02:03 -0500 (Tue, 11 Feb 2025) EllapsedTime: 30.5 seconds RetCode: 0 Status: OK