Package: muscData Version: 1.22.0 Command: /home/biocbuild/bbs-3.21-bioc/R/bin/R CMD INSTALL muscData StartedAt: 2025-10-16 11:01:42 -0400 (Thu, 16 Oct 2025) EndedAt: 2025-10-16 11:02:09 -0400 (Thu, 16 Oct 2025) EllapsedTime: 27.3 seconds RetCode: 0 Status: OK