Package: muSpaData Version: 1.2.0 Command: /home/biocbuild/bbs-3.22-bioc/R/bin/R CMD INSTALL muSpaData StartedAt: 2025-11-18 10:57:25 -0500 (Tue, 18 Nov 2025) EndedAt: 2025-11-18 10:57:38 -0500 (Tue, 18 Nov 2025) EllapsedTime: 12.9 seconds RetCode: 0 Status: OK