Package: muSpaData Version: 1.0.0 Command: /home/biocbuild/bbs-3.21-bioc/R/bin/R CMD build --keep-empty-dirs --no-resave-data muSpaData StartedAt: 2025-10-09 11:30:30 -0400 (Thu, 09 Oct 2025) EndedAt: 2025-10-09 11:31:46 -0400 (Thu, 09 Oct 2025) EllapsedTime: 76.1 seconds RetCode: 0 Status: OK PackageFile: muSpaData_1.0.0.tar.gz PackageFileSize: 582.8 KiB