Package: mtbls2 Version: 1.36.0 Command: /home/biocbuild/bbs-3.20-bioc/R/bin/R CMD INSTALL mtbls2 StartedAt: 2025-02-06 10:55:41 -0500 (Thu, 06 Feb 2025) EndedAt: 2025-02-06 10:56:20 -0500 (Thu, 06 Feb 2025) EllapsedTime: 39.2 seconds RetCode: 0 Status: OK