Package: mtbls2 Version: 1.36.0 Command: /home/biocbuild/bbs-3.20-bioc/R/bin/R CMD check --install=check:mtbls2.install-out.txt --library=/home/biocbuild/bbs-3.20-bioc/R/site-library --timings mtbls2_1.36.0.tar.gz StartedAt: 2025-02-06 12:23:18 -0500 (Thu, 06 Feb 2025) EndedAt: 2025-02-06 12:27:02 -0500 (Thu, 06 Feb 2025) EllapsedTime: 224.6 seconds RetCode: 0 Status: WARNINGS CheckDir: mtbls2.Rcheck Warnings: 1