Package: mtbls2 Version: 1.36.0 Command: /home/biocbuild/bbs-3.20-bioc/R/bin/R CMD build --keep-empty-dirs --no-resave-data mtbls2 StartedAt: 2025-02-11 11:29:11 -0500 (Tue, 11 Feb 2025) EndedAt: 2025-02-11 11:30:26 -0500 (Tue, 11 Feb 2025) EllapsedTime: 74.7 seconds RetCode: 0 Status: OK PackageFile: mtbls2_1.36.0.tar.gz PackageFileSize: 183.1 MiB