Package: mtbls2 Version: 1.38.1 Command: /home/biocbuild/bbs-3.21-bioc/R/bin/R CMD build --keep-empty-dirs --no-resave-data mtbls2 StartedAt: 2025-10-02 11:30:30 -0400 (Thu, 02 Oct 2025) EndedAt: 2025-10-02 11:31:46 -0400 (Thu, 02 Oct 2025) EllapsedTime: 76.0 seconds RetCode: 0 Status: OK PackageFile: mtbls2_1.38.1.tar.gz PackageFileSize: 183.1 MiB