Package: msigdb Version: 1.16.0 Command: /home/biocbuild/bbs-3.21-bioc/R/bin/R CMD INSTALL msigdb StartedAt: 2025-10-02 10:57:37 -0400 (Thu, 02 Oct 2025) EndedAt: 2025-10-02 10:57:39 -0400 (Thu, 02 Oct 2025) EllapsedTime: 1.5 seconds RetCode: 0 Status: OK