Package: msdata Version: 0.46.0 Command: /home/biocbuild/bbs-3.20-bioc/R/bin/R CMD build --keep-empty-dirs --no-resave-data msdata StartedAt: 2025-01-30 11:29:28 -0500 (Thu, 30 Jan 2025) EndedAt: 2025-01-30 11:30:20 -0500 (Thu, 30 Jan 2025) EllapsedTime: 51.6 seconds RetCode: 0 Status: OK PackageFile: msdata_0.46.0.tar.gz PackageFileSize: 426.4 MiB