Package: msdata Version: 0.48.0 Command: /home/biocbuild/bbs-3.21-bioc/R/bin/R CMD build --keep-empty-dirs --no-resave-data msdata StartedAt: 2025-10-16 11:29:38 -0400 (Thu, 16 Oct 2025) EndedAt: 2025-10-16 11:30:30 -0400 (Thu, 16 Oct 2025) EllapsedTime: 52.5 seconds RetCode: 0 Status: OK PackageFile: msdata_0.48.0.tar.gz PackageFileSize: 426.4 MiB