Package: msd16s Version: 1.26.0 Command: /home/biocbuild/bbs-3.20-bioc/R/bin/R CMD INSTALL msd16s StartedAt: 2025-02-06 10:56:43 -0500 (Thu, 06 Feb 2025) EndedAt: 2025-02-06 10:56:52 -0500 (Thu, 06 Feb 2025) EllapsedTime: 8.3 seconds RetCode: 0 Status: OK