Package: msPurityData Version: 1.34.0 Command: /home/biocbuild/bbs-3.20-bioc/R/bin/R CMD check --install=check:msPurityData.install-out.txt --library=/home/biocbuild/bbs-3.20-bioc/R/site-library --timings msPurityData_1.34.0.tar.gz StartedAt: 2025-02-06 12:22:54 -0500 (Thu, 06 Feb 2025) EndedAt: 2025-02-06 12:23:25 -0500 (Thu, 06 Feb 2025) EllapsedTime: 30.9 seconds RetCode: 0 Status: OK CheckDir: msPurityData.Rcheck Warnings: 0