Package: mouse4302barcodevecs Version: 1.44.0 Command: /home/biocbuild/bbs-3.20-bioc/R/bin/R CMD INSTALL mouse4302barcodevecs StartedAt: 2025-02-13 10:55:18 -0500 (Thu, 13 Feb 2025) EndedAt: 2025-02-13 10:55:20 -0500 (Thu, 13 Feb 2025) EllapsedTime: 1.8 seconds RetCode: 0 Status: OK