Package: mouse4302barcodevecs Version: 1.44.0 Command: /home/biocbuild/bbs-3.20-bioc/R/bin/R CMD check --install=check:mouse4302barcodevecs.install-out.txt --library=/home/biocbuild/bbs-3.20-bioc/R/site-library --timings mouse4302barcodevecs_1.44.0.tar.gz StartedAt: 2025-02-13 12:22:20 -0500 (Thu, 13 Feb 2025) EndedAt: 2025-02-13 12:22:31 -0500 (Thu, 13 Feb 2025) EllapsedTime: 11.3 seconds RetCode: 0 Status: OK CheckDir: mouse4302barcodevecs.Rcheck Warnings: 0