Package: mouse4302barcodevecs Version: 1.44.0 Command: /home/biocbuild/bbs-3.20-bioc/R/bin/R CMD build --keep-empty-dirs --no-resave-data mouse4302barcodevecs StartedAt: 2025-02-13 11:27:41 -0500 (Thu, 13 Feb 2025) EndedAt: 2025-02-13 11:27:42 -0500 (Thu, 13 Feb 2025) EllapsedTime: 1.4 seconds RetCode: 0 Status: OK PackageFile: mouse4302barcodevecs_1.44.0.tar.gz PackageFileSize: 1021 KiB