Package: minfiData Version: 0.52.0 Command: /home/biocbuild/bbs-3.20-bioc/R/bin/R CMD check --install=check:minfiData.install-out.txt --library=/home/biocbuild/bbs-3.20-bioc/R/site-library --timings minfiData_0.52.0.tar.gz StartedAt: 2025-02-06 12:19:27 -0500 (Thu, 06 Feb 2025) EndedAt: 2025-02-06 12:22:36 -0500 (Thu, 06 Feb 2025) EllapsedTime: 189.3 seconds RetCode: 0 Status: WARNINGS CheckDir: minfiData.Rcheck Warnings: 1