Package: microbiomeDataSets Version: 1.14.0 Command: /home/biocbuild/bbs-3.20-bioc/R/bin/R CMD INSTALL microbiomeDataSets StartedAt: 2025-02-11 11:02:26 -0500 (Tue, 11 Feb 2025) EndedAt: 2025-02-11 11:02:58 -0500 (Tue, 11 Feb 2025) EllapsedTime: 32.1 seconds RetCode: 0 Status: OK