Package: microbiomeDataSets Version: 1.14.0 Command: /home/biocbuild/bbs-3.20-bioc/R/bin/R CMD build --keep-empty-dirs --no-resave-data microbiomeDataSets StartedAt: 2025-02-06 11:27:26 -0500 (Thu, 06 Feb 2025) EndedAt: 2025-02-06 11:28:13 -0500 (Thu, 06 Feb 2025) EllapsedTime: 46.6 seconds RetCode: 0 Status: OK PackageFile: microbiomeDataSets_1.14.0.tar.gz PackageFileSize: 235 KiB