Package: metaMSdata Version: 1.42.0 Command: /home/biocbuild/bbs-3.20-bioc/R/bin/R CMD build --keep-empty-dirs --no-resave-data metaMSdata StartedAt: 2025-02-13 11:26:12 -0500 (Thu, 13 Feb 2025) EndedAt: 2025-02-13 11:31:17 -0500 (Thu, 13 Feb 2025) EllapsedTime: 305.3 seconds RetCode: 0 Status: OK PackageFile: metaMSdata_1.42.0.tar.gz PackageFileSize: 121.9 MiB