Package: metaMSdata Version: 1.44.0 Command: /home/biocbuild/bbs-3.21-bioc/R/bin/R CMD build --keep-empty-dirs --no-resave-data metaMSdata StartedAt: 2025-10-16 11:27:29 -0400 (Thu, 16 Oct 2025) EndedAt: 2025-10-16 11:32:36 -0400 (Thu, 16 Oct 2025) EllapsedTime: 306.6 seconds RetCode: 0 Status: OK PackageFile: metaMSdata_1.44.0.tar.gz PackageFileSize: 121.9 MiB