Package: metaMSdata Version: 1.46.0 Maintainer: Yann Guitton MaintainerEmail: yann.guitton at gmail.com git_url: https://git.bioconductor.org/packages/metaMSdata git_branch: RELEASE_3_22 git_last_commit: 0852ef3 git_last_commit_date: 2025-10-29 09:54:57 -0500 (Wed, 29 Oct 2025)