Package: mcsurvdata Version: 1.24.0 Command: /home/biocbuild/bbs-3.20-bioc/R/bin/R CMD INSTALL mcsurvdata StartedAt: 2025-02-13 10:56:48 -0500 (Thu, 13 Feb 2025) EndedAt: 2025-02-13 10:56:57 -0500 (Thu, 13 Feb 2025) EllapsedTime: 9.2 seconds RetCode: 0 Status: OK