Package: mcsurvdata Version: 1.24.0 Command: /home/biocbuild/bbs-3.20-bioc/R/bin/R CMD check --install=check:mcsurvdata.install-out.txt --library=/home/biocbuild/bbs-3.20-bioc/R/site-library --timings mcsurvdata_1.24.0.tar.gz StartedAt: 2025-02-13 12:17:31 -0500 (Thu, 13 Feb 2025) EndedAt: 2025-02-13 12:18:59 -0500 (Thu, 13 Feb 2025) EllapsedTime: 88.3 seconds RetCode: 0 Status: OK CheckDir: mcsurvdata.Rcheck Warnings: 0