Package: mcsurvdata Version: 1.26.0 Command: /home/biocbuild/bbs-3.21-bioc/R/bin/R CMD INSTALL mcsurvdata StartedAt: 2025-10-16 10:56:53 -0400 (Thu, 16 Oct 2025) EndedAt: 2025-10-16 10:57:02 -0400 (Thu, 16 Oct 2025) EllapsedTime: 8.9 seconds RetCode: 0 Status: OK