Package: mcsurvdata Version: 1.26.0 Command: /home/biocbuild/bbs-3.21-bioc/R/bin/R CMD build --keep-empty-dirs --no-resave-data mcsurvdata StartedAt: 2025-10-16 11:26:38 -0400 (Thu, 16 Oct 2025) EndedAt: 2025-10-16 11:27:07 -0400 (Thu, 16 Oct 2025) EllapsedTime: 28.3 seconds RetCode: 0 Status: OK PackageFile: mcsurvdata_1.26.0.tar.gz PackageFileSize: 229.5 KiB