Package: marinerData Version: 1.6.0 Command: /home/biocbuild/bbs-3.20-bioc/R/bin/R CMD check --install=check:marinerData.install-out.txt --library=/home/biocbuild/bbs-3.20-bioc/R/site-library --timings marinerData_1.6.0.tar.gz StartedAt: 2025-02-11 12:18:57 -0500 (Tue, 11 Feb 2025) EndedAt: 2025-02-11 12:21:29 -0500 (Tue, 11 Feb 2025) EllapsedTime: 152.4 seconds RetCode: 0 Status: OK CheckDir: marinerData.Rcheck Warnings: 0