Package: marinerData Version: 1.8.0 Command: /home/biocbuild/bbs-3.21-bioc/R/bin/R CMD INSTALL marinerData StartedAt: 2025-10-16 10:57:00 -0400 (Thu, 16 Oct 2025) EndedAt: 2025-10-16 10:57:13 -0400 (Thu, 16 Oct 2025) EllapsedTime: 13.5 seconds RetCode: 0 Status: OK