Package: maqcExpression4plex Version: 1.52.0 Command: /home/biocbuild/bbs-3.21-bioc/R/bin/R CMD build --keep-empty-dirs --no-resave-data maqcExpression4plex StartedAt: 2025-09-30 11:26:12 -0400 (Tue, 30 Sep 2025) EndedAt: 2025-09-30 11:26:17 -0400 (Tue, 30 Sep 2025) EllapsedTime: 5.3 seconds RetCode: 0 Status: OK PackageFile: maqcExpression4plex_1.52.0.tar.gz PackageFileSize: 6.578 MiB