Package: mammaPrintData Version: 1.42.0 Command: /home/biocbuild/bbs-3.20-bioc/R/bin/R CMD INSTALL mammaPrintData StartedAt: 2025-02-13 10:55:40 -0500 (Thu, 13 Feb 2025) EndedAt: 2025-02-13 10:55:45 -0500 (Thu, 13 Feb 2025) EllapsedTime: 4.7 seconds RetCode: 0 Status: OK