Package: mammaPrintData Version: 1.42.0 Command: /home/biocbuild/bbs-3.20-bioc/R/bin/R CMD check --install=check:mammaPrintData.install-out.txt --library=/home/biocbuild/bbs-3.20-bioc/R/site-library --timings mammaPrintData_1.42.0.tar.gz StartedAt: 2025-02-13 12:17:03 -0500 (Thu, 13 Feb 2025) EndedAt: 2025-02-13 12:18:14 -0500 (Thu, 13 Feb 2025) EllapsedTime: 70.2 seconds RetCode: 0 Status: OK CheckDir: mammaPrintData.Rcheck Warnings: 0