Package: mammaPrintData Version: 1.42.0 Command: /home/biocbuild/bbs-3.20-bioc/R/bin/R CMD build --keep-empty-dirs --no-resave-data mammaPrintData StartedAt: 2025-02-13 11:24:39 -0500 (Thu, 13 Feb 2025) EndedAt: 2025-02-13 11:25:47 -0500 (Thu, 13 Feb 2025) EllapsedTime: 68.4 seconds RetCode: 0 Status: OK PackageFile: mammaPrintData_1.42.0.tar.gz PackageFileSize: 214.2 MiB