Package: leeBamViews Version: 1.42.0 Command: /home/biocbuild/bbs-3.20-bioc/R/bin/R CMD build --keep-empty-dirs --no-resave-data leeBamViews StartedAt: 2025-02-11 11:24:21 -0500 (Tue, 11 Feb 2025) EndedAt: 2025-02-11 11:25:20 -0500 (Tue, 11 Feb 2025) EllapsedTime: 59.5 seconds RetCode: 0 Status: OK PackageFile: leeBamViews_1.42.0.tar.gz PackageFileSize: 11.05 MiB