Package: leeBamViews Version: 1.44.0 Command: /home/biocbuild/bbs-3.21-bioc/R/bin/R CMD INSTALL leeBamViews StartedAt: 2025-10-02 11:02:10 -0400 (Thu, 02 Oct 2025) EndedAt: 2025-10-02 11:02:39 -0400 (Thu, 02 Oct 2025) EllapsedTime: 28.9 seconds RetCode: 0 Status: OK