Package: kidpack Version: 1.50.0 Command: /home/biocbuild/bbs-3.21-bioc/R/bin/R CMD INSTALL kidpack StartedAt: 2025-10-16 10:56:18 -0400 (Thu, 16 Oct 2025) EndedAt: 2025-10-16 10:56:23 -0400 (Thu, 16 Oct 2025) EllapsedTime: 4.6 seconds RetCode: 0 Status: OK