Package: imcdatasets Version: 1.18.0 Command: /home/biocbuild/bbs-3.22-bioc/R/bin/R CMD INSTALL imcdatasets StartedAt: 2025-11-27 11:00:21 -0500 (Thu, 27 Nov 2025) EndedAt: 2025-11-27 11:01:18 -0500 (Thu, 27 Nov 2025) EllapsedTime: 56.9 seconds RetCode: 0 Status: OK