Package: iModMixData Version: 1.0.0 Command: /home/biocbuild/bbs-3.22-bioc/R/bin/R CMD INSTALL iModMixData StartedAt: 2025-11-20 10:57:47 -0500 (Thu, 20 Nov 2025) EndedAt: 2025-11-20 10:57:49 -0500 (Thu, 20 Nov 2025) EllapsedTime: 1.3 seconds RetCode: 0 Status: OK