Package: iModMixData Version: 1.0.0 Command: /home/biocbuild/bbs-3.22-bioc/R/bin/R CMD build --keep-empty-dirs --no-resave-data iModMixData StartedAt: 2025-11-20 11:28:05 -0500 (Thu, 20 Nov 2025) EndedAt: 2025-11-20 11:28:50 -0500 (Thu, 20 Nov 2025) EllapsedTime: 44.8 seconds RetCode: 0 Status: OK PackageFile: iModMixData_1.0.0.tar.gz PackageFileSize: 11.38 KiB