Package: humanStemCell Version: 0.48.0 Command: /home/biocbuild/bbs-3.21-bioc/R/bin/R CMD INSTALL humanStemCell StartedAt: 2025-10-16 10:57:25 -0400 (Thu, 16 Oct 2025) EndedAt: 2025-10-16 10:57:34 -0400 (Thu, 16 Oct 2025) EllapsedTime: 9.2 seconds RetCode: 0 Status: OK