Package: humanHippocampus2024 Version: 1.2.0 Command: /home/biocbuild/bbs-3.22-bioc/R/bin/R CMD check --install=check:humanHippocampus2024.install-out.txt --library=/home/biocbuild/bbs-3.22-bioc/R/site-library --timings humanHippocampus2024_1.2.0.tar.gz StartedAt: 2025-11-13 12:37:08 -0500 (Thu, 13 Nov 2025) EndedAt: 2025-11-13 12:45:27 -0500 (Thu, 13 Nov 2025) EllapsedTime: 499.7 seconds RetCode: 0 Status: OK CheckDir: humanHippocampus2024.Rcheck Warnings: 0