Package: humanHippocampus2024 Version: 1.2.0 Command: /home/biocbuild/bbs-3.22-bioc/R/bin/R CMD build --keep-empty-dirs --no-resave-data humanHippocampus2024 StartedAt: 2025-10-30 11:32:44 -0400 (Thu, 30 Oct 2025) EndedAt: 2025-10-30 11:39:45 -0400 (Thu, 30 Oct 2025) EllapsedTime: 421.1 seconds RetCode: 0 Status: OK PackageFile: humanHippocampus2024_1.2.0.tar.gz PackageFileSize: 1.041 MiB