Package: humanHippocampus2024 Version: 1.0.0 Command: /home/biocbuild/bbs-3.21-bioc/R/bin/R CMD build --keep-empty-dirs --no-resave-data humanHippocampus2024 StartedAt: 2025-10-14 11:23:24 -0400 (Tue, 14 Oct 2025) EndedAt: 2025-10-14 11:29:08 -0400 (Tue, 14 Oct 2025) EllapsedTime: 344.7 seconds RetCode: 0 Status: OK PackageFile: humanHippocampus2024_1.0.0.tar.gz PackageFileSize: 1.041 MiB