Package: homosapienDEE2CellScore Version: 1.6.0 Command: /home/biocbuild/bbs-3.22-bioc/R/bin/R CMD INSTALL homosapienDEE2CellScore StartedAt: 2025-11-18 11:00:47 -0500 (Tue, 18 Nov 2025) EndedAt: 2025-11-18 11:01:17 -0500 (Tue, 18 Nov 2025) EllapsedTime: 30.5 seconds RetCode: 0 Status: OK