Package: homosapienDEE2CellScore Version: 1.6.0 Command: /home/biocbuild/bbs-3.22-bioc/R/bin/R CMD build --keep-empty-dirs --no-resave-data homosapienDEE2CellScore StartedAt: 2025-11-18 11:38:12 -0500 (Tue, 18 Nov 2025) EndedAt: 2025-11-18 11:39:01 -0500 (Tue, 18 Nov 2025) EllapsedTime: 49.2 seconds RetCode: 1 Status: ERROR PackageFile: None PackageFileSize: NA