Package: hgu133plus2barcodevecs Version: 1.44.0 Command: /home/biocbuild/bbs-3.20-bioc/R/bin/R CMD check --install=check:hgu133plus2barcodevecs.install-out.txt --library=/home/biocbuild/bbs-3.20-bioc/R/site-library --timings hgu133plus2barcodevecs_1.44.0.tar.gz StartedAt: 2025-02-06 12:09:04 -0500 (Thu, 06 Feb 2025) EndedAt: 2025-02-06 12:09:15 -0500 (Thu, 06 Feb 2025) EllapsedTime: 11.6 seconds RetCode: 0 Status: OK CheckDir: hgu133plus2barcodevecs.Rcheck Warnings: 0