Package: hgu133plus2CellScore Version: 1.26.0 Command: /home/biocbuild/bbs-3.20-bioc/R/bin/R CMD build --keep-empty-dirs --no-resave-data hgu133plus2CellScore StartedAt: 2025-02-11 11:22:02 -0500 (Tue, 11 Feb 2025) EndedAt: 2025-02-11 11:22:32 -0500 (Tue, 11 Feb 2025) EllapsedTime: 29.9 seconds RetCode: 0 Status: OK PackageFile: hgu133plus2CellScore_1.26.0.tar.gz PackageFileSize: 41 MiB