Package: hgu133plus2CellScore Version: 1.26.0 Maintainer: Nancy Mah MaintainerEmail: nancy.l.mah at googlemail.com git_url: https://git.bioconductor.org/packages/hgu133plus2CellScore git_branch: RELEASE_3_20 git_last_commit: 8409b96 git_last_commit_date: 2024-10-29 09:47:47 -0500 (Tue, 29 Oct 2024)